BEGIN:VCALENDAR
VERSION:2.0
PRODID:-//Plone.org//NONSGML plone.app.event//EN
X-WR-TIMEZONE:Europe/Madrid
BEGIN:VEVENT
SUMMARY:Conversa amb Marta Orriols sobre el llibre "A l'altra banda de la 
 por"
DTSTART;TZID=Europe/Madrid;VALUE=DATE-TIME:20251125T180000
DTEND;TZID=Europe/Madrid;VALUE=DATE-TIME:20251125T190000
DTSTAMP;VALUE=DATE-TIME:20260422T113428Z
UID:48755e64909e4efea9397deb6e0cd439@www.paeria.cat
CATEGORIES:Llibres i literatura
CREATED;VALUE=DATE-TIME:20251118T165835Z
DESCRIPTION:Els clubs de lectura parlaran sobre el llibre "A l'altra banda
  de la por" amb l'autora\, Marta Orriols\, i la dinamitzadora del club de 
 tarda\, Anabel Ramos. \nAmb el suport del Departament de Cultura i la Inst
 itució de les Lletres Catalanes.
LAST-MODIFIED;VALUE=DATE-TIME:20260202T115028Z
URL:https://www.paeria.cat/ca/actualitat/agenda/conversa-amb-marta-orriols
 -sobre-el-llibre-a-laltra-banda-de-la-por
END:VEVENT
BEGIN:VTIMEZONE
TZID:Europe/Madrid
X-LIC-LOCATION:Europe/Madrid
BEGIN:STANDARD
DTSTART;VALUE=DATE-TIME:20251026T020000
TZNAME:CET
TZOFFSETFROM:+0200
TZOFFSETTO:+0100
END:STANDARD
END:VTIMEZONE
END:VCALENDAR
