BEGIN:VCALENDAR
VERSION:2.0
PRODID:-//Plone.org//NONSGML plone.app.event//EN
X-WR-TIMEZONE:Europe/Madrid
BEGIN:VEVENT
SUMMARY:MUD - Festival Músiques Disperses - RAQUEL LUA + NATROLS SOLS SEL
 ECTORS
DTSTART;TZID=Europe/Madrid;VALUE=DATE-TIME:20250315T120000
DTSTAMP;VALUE=DATE-TIME:20260420T085628Z
UID:13b8285417e041f099ef13cf35180d82@www.paeria.cat
CATEGORIES:Cultura,Música
CREATED;VALUE=DATE-TIME:20250110T112455Z
DESCRIPTION:CONCERTS-VERMUT GRATUÏTS AL PATI DE L’ESCORXADOR
LAST-MODIFIED;VALUE=DATE-TIME:20250113T111142Z
URL:https://www.paeria.cat/ca/actualitat/agenda/copy2_of_mud-festival-musi
 ques-disperses-depedro
END:VEVENT
BEGIN:VTIMEZONE
TZID:Europe/Madrid
X-LIC-LOCATION:Europe/Madrid
BEGIN:STANDARD
DTSTART;VALUE=DATE-TIME:20241027T020000
TZNAME:CET
TZOFFSETFROM:+0200
TZOFFSETTO:+0100
END:STANDARD
END:VTIMEZONE
END:VCALENDAR
