BEGIN:VCALENDAR
VERSION:2.0
PRODID:-//Plone.org//NONSGML plone.app.event//EN
X-WR-TIMEZONE:Europe/Madrid
BEGIN:VEVENT
SUMMARY:Com enfoco la recerca de feina si tinc més de 50 anys?
DTSTART;TZID=Europe/Madrid;VALUE=DATE-TIME:20260616T103000
DTEND;TZID=Europe/Madrid;VALUE=DATE-TIME:20260616T123000
DTSTAMP;VALUE=DATE-TIME:20260422T155156Z
UID:e45d481a4b144c658f940c1ecd6745d0@www.paeria.cat
CATEGORIES:Xerrades i conferències,Ocupació,Tallers i cursos
CREATED;VALUE=DATE-TIME:20250918T121311Z
DESCRIPTION:L'edat sol ser un factor que neguiteja les persones que tenen 
 més de 50 anys i es troben que han de reincorporar-se al mercat laboral. 
 Però\, quins són els estereotips que s'associen a l'edat en el món labo
 ral? En quin grau afecta realment el procés de recerca? Com poder posar a
 quest element en valor en el mercat laboral? En aquesta sessió reflexiona
 rem sobre aquestes qüestions d'una manera dinàmica i pràctica.\nServei 
 Ocupacció. Píndoles per a la recerca de feina.
LAST-MODIFIED;VALUE=DATE-TIME:20260305T112908Z
URL:https://www.paeria.cat/ca/actualitat/agenda/copy3_of_com-morganitzo-la
 -recerca-de-feina
END:VEVENT
BEGIN:VTIMEZONE
TZID:Europe/Madrid
X-LIC-LOCATION:Europe/Madrid
BEGIN:DAYLIGHT
DTSTART;VALUE=DATE-TIME:20260329T030000
TZNAME:CEST
TZOFFSETFROM:+0100
TZOFFSETTO:+0200
END:DAYLIGHT
END:VTIMEZONE
END:VCALENDAR
