BEGIN:VCALENDAR
VERSION:2.0
PRODID:-//Plone.org//NONSGML plone.app.event//EN
X-WR-TIMEZONE:Europe/Madrid
BEGIN:VEVENT
SUMMARY:MUD - Festival Músiques Disperses - BENIN INTERNATIONAL MUSICAL
DTSTART;TZID=Europe/Madrid;VALUE=DATE-TIME:20250316T200000
DTSTAMP;VALUE=DATE-TIME:20260420T191209Z
UID:ea85fcb48b9a47c3a149932129288421@www.paeria.cat
CATEGORIES:Cultura,Música
CREATED;VALUE=DATE-TIME:20250110T112455Z
LAST-MODIFIED;VALUE=DATE-TIME:20250113T111350Z
URL:https://www.paeria.cat/ca/actualitat/agenda/copy3_of_mud-festival-musi
 ques-disperses-depedro
END:VEVENT
BEGIN:VTIMEZONE
TZID:Europe/Madrid
X-LIC-LOCATION:Europe/Madrid
BEGIN:STANDARD
DTSTART;VALUE=DATE-TIME:20241027T020000
TZNAME:CET
TZOFFSETFROM:+0200
TZOFFSETTO:+0100
END:STANDARD
END:VTIMEZONE
END:VCALENDAR
