BEGIN:VCALENDAR
VERSION:2.0
PRODID:-//Plone.org//NONSGML plone.app.event//EN
X-WR-TIMEZONE:Europe/Madrid
BEGIN:VEVENT
SUMMARY:Kit bàsic de recerca de feina: currículum\, competències i cart
 es de presentació
DTSTART;TZID=Europe/Madrid;VALUE=DATE-TIME:20260421T103000
DTEND;TZID=Europe/Madrid;VALUE=DATE-TIME:20260421T123000
DTSTAMP;VALUE=DATE-TIME:20260423T180856Z
UID:5b5db295629a4070a632d94360626690@www.paeria.cat
CATEGORIES:Xerrades i conferències,Ocupació,Tallers i cursos
CREATED;VALUE=DATE-TIME:20250918T121311Z
DESCRIPTION:Per enfrontar-se al procés de buscar una feina és essencial 
 disposar d'una bona "caixa d'eines" amb tot allò imprescindible per acons
 eguir el nostre objectiu. En aquest taller treballarem els continguts clau
  necessaris perquè la nostra recerca sigui un èxit: el currículum\, les
  competències i les cartes de presentació.\nServei Ocupacció. Píndoles
  per a la recerca de feina.
LAST-MODIFIED;VALUE=DATE-TIME:20260305T112757Z
URL:https://www.paeria.cat/ca/actualitat/agenda/copy4_of_com-morganitzo-la
 -recerca-de-feina
END:VEVENT
BEGIN:VTIMEZONE
TZID:Europe/Madrid
X-LIC-LOCATION:Europe/Madrid
BEGIN:DAYLIGHT
DTSTART;VALUE=DATE-TIME:20260329T030000
TZNAME:CEST
TZOFFSETFROM:+0100
TZOFFSETTO:+0200
END:DAYLIGHT
END:VTIMEZONE
END:VCALENDAR
