BEGIN:VCALENDAR
VERSION:2.0
PRODID:-//Plone.org//NONSGML plone.app.event//EN
X-WR-TIMEZONE:Europe/Madrid
BEGIN:VEVENT
SUMMARY:Factoria dels Reixos 2025
DTSTART;TZID=Europe/Madrid;VALUE=DATE-TIME:20250103T180000
DTSTAMP;VALUE=DATE-TIME:20260419T144546Z
UID:bda18f64b5784e2e8e7e66d9069ded1f@www.paeria.cat
CREATED;VALUE=DATE-TIME:20241128T111652Z
DESCRIPTION:Divendres \, 3 de gener.
LAST-MODIFIED;VALUE=DATE-TIME:20250514T124909Z
URL:https://www.paeria.cat/ca/actualitat/agenda/copy9_of_factoria-dels-rei
 xos-2025
END:VEVENT
BEGIN:VTIMEZONE
TZID:Europe/Madrid
X-LIC-LOCATION:Europe/Madrid
BEGIN:STANDARD
DTSTART;VALUE=DATE-TIME:20241027T020000
TZNAME:CET
TZOFFSETFROM:+0200
TZOFFSETTO:+0100
END:STANDARD
END:VTIMEZONE
END:VCALENDAR
