BEGIN:VCALENDAR
VERSION:2.0
PRODID:-//Plone.org//NONSGML plone.app.event//EN
X-WR-TIMEZONE:Europe/Madrid
BEGIN:VEVENT
SUMMARY:L'entrevista de feina
DTSTART;TZID=Europe/Madrid;VALUE=DATE-TIME:20260317T103000
DTEND;TZID=Europe/Madrid;VALUE=DATE-TIME:20260317T123000
DTSTAMP;VALUE=DATE-TIME:20260423T172645Z
UID:83d22435a2554d2f83d6e37222bcb7ad@www.paeria.cat
CATEGORIES:Xerrades i conferències,Ocupació,Talleres y cursos
CREATED;VALUE=DATE-TIME:20250918T121311Z
DESCRIPTION:Treballarem els coneixements bàsics per enfrontar-te a un del
 s moments cabdals del procés de recerca de feina: l'entrevista. Aprendrà
 s tot el que cal saber sobre les fases\, les preguntes més habituals\, la
  comunicació verbal i no verbal\, i en definitiva\, les claus de l'èxit 
 per superar l'entrevista de feina.\nÉs convenient aportar el currículum 
 personal en el moment de la inscripció per poder fer la sessió més prà
 ctica\, participativa i més interessant per a tu!\nServei Ocupacció. Pí
 ndoles per a la recerca de feina
LAST-MODIFIED;VALUE=DATE-TIME:20260305T113258Z
URL:https://www.paeria.cat/ca/actualitat/agenda/copy_of_com-morganitzo-la-
 recerca-de-feina
END:VEVENT
BEGIN:VTIMEZONE
TZID:Europe/Madrid
X-LIC-LOCATION:Europe/Madrid
BEGIN:STANDARD
DTSTART;VALUE=DATE-TIME:20251026T020000
TZNAME:CET
TZOFFSETFROM:+0200
TZOFFSETTO:+0100
END:STANDARD
END:VTIMEZONE
END:VCALENDAR
