BEGIN:VCALENDAR
VERSION:2.0
PRODID:-//Plone.org//NONSGML plone.app.event//EN
X-WR-TIMEZONE:Europe/Madrid
BEGIN:VEVENT
SUMMARY:MUD - Festival Músiques Disperses - MAESTRO ESPADA
DTSTART;TZID=Europe/Madrid;VALUE=DATE-TIME:20250315T200000
DTSTAMP;VALUE=DATE-TIME:20260420T200544Z
UID:be3f1d2613ad4dfba4f267f62b9c3d8e@www.paeria.cat
CATEGORIES:Cultura,Música
CREATED;VALUE=DATE-TIME:20250110T112455Z
LAST-MODIFIED;VALUE=DATE-TIME:20250113T111349Z
URL:https://www.paeria.cat/ca/actualitat/agenda/copy_of_mud-festival-musiq
 ues-disperses-depedro
END:VEVENT
BEGIN:VTIMEZONE
TZID:Europe/Madrid
X-LIC-LOCATION:Europe/Madrid
BEGIN:STANDARD
DTSTART;VALUE=DATE-TIME:20241027T020000
TZNAME:CET
TZOFFSETFROM:+0200
TZOFFSETTO:+0100
END:STANDARD
END:VTIMEZONE
END:VCALENDAR
