BEGIN:VCALENDAR
VERSION:2.0
PRODID:-//Plone.org//NONSGML plone.app.event//EN
X-WR-TIMEZONE:Europe/Madrid
BEGIN:VEVENT
SUMMARY:XXIX Cursa Sant Silvestre
DTSTART;TZID=Europe/Madrid;VALUE=DATE-TIME:20241231T110000
DTSTAMP;VALUE=DATE-TIME:20260424T210356Z
UID:f6764f4cd99e4af6993ee84a73c7978d@www.paeria.cat
CATEGORIES:Tots els públics,Cultura,Esports
CREATED;VALUE=DATE-TIME:20231130T104713Z
DESCRIPTION:Cursa de 5 km oberta a tothom.
LAST-MODIFIED;VALUE=DATE-TIME:20250514T124909Z
URL:https://www.paeria.cat/ca/actualitat/agenda/copy_of_xxviii-cursa-sant-
 silvestre
END:VEVENT
BEGIN:VTIMEZONE
TZID:Europe/Madrid
X-LIC-LOCATION:Europe/Madrid
BEGIN:STANDARD
DTSTART;VALUE=DATE-TIME:20241027T020000
TZNAME:CET
TZOFFSETFROM:+0200
TZOFFSETTO:+0100
END:STANDARD
END:VTIMEZONE
END:VCALENDAR
