BEGIN:VCALENDAR
VERSION:2.0
PRODID:-//Plone.org//NONSGML plone.app.event//EN
X-WR-TIMEZONE:Europe/Madrid
BEGIN:VEVENT
SUMMARY:CreActiva. Activa’t al Casal 2022-2023
DTSTART;TZID=Europe/Madrid;VALUE=DATE-TIME:20230228T173000
DTEND;TZID=Europe/Madrid;VALUE=DATE-TIME:20230228T193000
DTSTAMP;VALUE=DATE-TIME:20260420T191548Z
UID:c486a8809f444974a3a6731a4e719c8f@www.paeria.cat
CATEGORIES:Dona,Tallers i cursos
CREATED;VALUE=DATE-TIME:20221209T104930Z
DESCRIPTION:Creativitat\, imaginació i empoderament per aplicar els saber
 s i l’experiència de les dones en la reutilització dels residus\, per 
 a la cura\, la sostenibilitat i la transformació nostre del l’entorn.
LAST-MODIFIED;VALUE=DATE-TIME:20240509T071504Z
URL:https://www.paeria.cat/ca/actualitat/agenda/creactiva-activat-al-casal
 -2022-2023/2023-02-28
END:VEVENT
BEGIN:VTIMEZONE
TZID:Europe/Madrid
X-LIC-LOCATION:Europe/Madrid
BEGIN:STANDARD
DTSTART;VALUE=DATE-TIME:20221030T020000
TZNAME:CET
TZOFFSETFROM:+0200
TZOFFSETTO:+0100
END:STANDARD
END:VTIMEZONE
END:VCALENDAR
