BEGIN:VCALENDAR
VERSION:2.0
PRODID:-//Plone.org//NONSGML plone.app.event//EN
X-WR-TIMEZONE:Europe/Madrid
BEGIN:VEVENT
SUMMARY:Dansa i música: "Female Empowerment dance Mix" i actuació d'Itsa
 sgorak - Cinemón 2023
DTSTART;TZID=Europe/Madrid;VALUE=DATE-TIME:20230708T193000
DTEND;TZID=Europe/Madrid;VALUE=DATE-TIME:20230708T210000
DTSTAMP;VALUE=DATE-TIME:20260422T185547Z
UID:3a8eacf4d9b742959731354f3e8e3836@www.paeria.cat
CATEGORIES:Dansa,Dona,Música,Tots els públics,Ciutadania
CREATED;VALUE=DATE-TIME:20230628T123631Z
DESCRIPTION:A les 19:30h espai de dansa amb “Female Empowerment Dance Mi
 x”\, a càrrec de KevinWeen13. Mix de balls amb molta força de cançons
  pop urbanes de dones reconegudes mundialment.\nA les 20:00h espai musical
  amb Itsasgorak\, cantautora de les Terres de Ponent. Planteja un viatge p
 er les escriptures que ens defineixen\, fa simbiosi amb les melodies inter
 nes que compon per tal de dibuixar un ull crític a cada orella que l’es
 colta. \n\nLloc\, data i hora: Plaça Sant Francesc. Dissabte 8 de juliol\
 , a les 19:30h\n\nPer a més informació cooperacio.paeria.cat/cinemon
LAST-MODIFIED;VALUE=DATE-TIME:20250514T073206Z
URL:https://www.paeria.cat/ca/actualitat/agenda/dansa-i-musica-female-empo
 werment-dance-mix-i-actuacio-ditsasgorak-cinemon-2023
END:VEVENT
BEGIN:VTIMEZONE
TZID:Europe/Madrid
X-LIC-LOCATION:Europe/Madrid
BEGIN:DAYLIGHT
DTSTART;VALUE=DATE-TIME:20230326T030000
TZNAME:CEST
TZOFFSETFROM:+0100
TZOFFSETTO:+0200
END:DAYLIGHT
END:VTIMEZONE
END:VCALENDAR
