BEGIN:VCALENDAR
VERSION:2.0
PRODID:-//Plone.org//NONSGML plone.app.event//EN
X-WR-TIMEZONE:Europe/Madrid
BEGIN:VEVENT
SUMMARY:DE LLEIDA A MAUTHAUSEN 2023. L'EXPERIÈNCIA D’UN VIATGE ALS CAMP
 S DE CONCENTRACIÓ NAZIS
DTSTART;TZID=Europe/Madrid;VALUE=DATE-TIME:20240126T190000
DTSTAMP;VALUE=DATE-TIME:20260422T132828Z
UID:3b9ea13e040e4c2593489db508204c2c@www.paeria.cat
CATEGORIES:Xerrades i conferències
CREATED;VALUE=DATE-TIME:20240123T124725Z
LAST-MODIFIED;VALUE=DATE-TIME:20250514T130709Z
URL:https://www.paeria.cat/ca/actualitat/agenda/de-lleida-a-mauthausen-202
 3-lexperiencia-d2019un-viatge-als-camps-de-concentracio-nazis
END:VEVENT
BEGIN:VTIMEZONE
TZID:Europe/Madrid
X-LIC-LOCATION:Europe/Madrid
BEGIN:STANDARD
DTSTART;VALUE=DATE-TIME:20231029T020000
TZNAME:CET
TZOFFSETFROM:+0200
TZOFFSETTO:+0100
END:STANDARD
END:VTIMEZONE
END:VCALENDAR
