BEGIN:VCALENDAR
VERSION:2.0
PRODID:-//Plone.org//NONSGML plone.app.event//EN
X-WR-TIMEZONE:Europe/Madrid
BEGIN:VEVENT
SUMMARY:DESENTERRANT LA REPRESSIÓ DE GÈNERE: LA VIOLÈNCIA EXERCIDA SOBR
 E LES DONES DURANT LA GUERRA CIVIL I LA DICTADURA FRANQUISTA A ESPANYA.
DTSTART;TZID=Europe/Madrid;VALUE=DATE-TIME:20240229T190000
DTSTAMP;VALUE=DATE-TIME:20260423T073652Z
UID:507e6906645b404e9324be86caa67201@www.paeria.cat
CATEGORIES:Xerrades i conferències
CREATED;VALUE=DATE-TIME:20240226T082714Z
DESCRIPTION:DEBATS DE MEMÒRIA
LAST-MODIFIED;VALUE=DATE-TIME:20250514T130737Z
URL:https://www.paeria.cat/ca/actualitat/agenda/desenterrant-la-repressio-
 de-genere-la-violencia-exercida-sobre-les-dones-durant-la-guerra-civil-i-l
 a-dictadura-franquista-a-espanya
END:VEVENT
BEGIN:VTIMEZONE
TZID:Europe/Madrid
X-LIC-LOCATION:Europe/Madrid
BEGIN:STANDARD
DTSTART;VALUE=DATE-TIME:20231029T020000
TZNAME:CET
TZOFFSETFROM:+0200
TZOFFSETTO:+0100
END:STANDARD
END:VTIMEZONE
END:VCALENDAR
