BEGIN:VCALENDAR
VERSION:2.0
PRODID:-//Plone.org//NONSGML plone.app.event//EN
X-WR-TIMEZONE:Europe/Madrid
BEGIN:VEVENT
SUMMARY:Ecodescoberta. El verd de la ciutat: del turó de la Seu Vella als
  Camps Elisis
DTSTART;TZID=Europe/Madrid;VALUE=DATE-TIME:20230521T100000
DTEND;TZID=Europe/Madrid;VALUE=DATE-TIME:20230521T120000
DTSTAMP;VALUE=DATE-TIME:20260422T215023Z
UID:93b5b82866584cec8d86f2130b856807@www.paeria.cat
CATEGORIES:Itineraris i visites
CREATED;VALUE=DATE-TIME:20230425T113100Z
DESCRIPTION:Ecoactivitats 2023
LAST-MODIFIED;VALUE=DATE-TIME:20230425T113431Z
URL:https://www.paeria.cat/ca/actualitat/agenda/ecodescoberta-el-verd-de-l
 a-ciutat-del-turo-de-la-seu-vella-als-camps-elisis
END:VEVENT
BEGIN:VTIMEZONE
TZID:Europe/Madrid
X-LIC-LOCATION:Europe/Madrid
BEGIN:DAYLIGHT
DTSTART;VALUE=DATE-TIME:20230326T030000
TZNAME:CEST
TZOFFSETFROM:+0100
TZOFFSETTO:+0200
END:DAYLIGHT
END:VTIMEZONE
END:VCALENDAR
