BEGIN:VCALENDAR
VERSION:2.0
PRODID:-//Plone.org//NONSGML plone.app.event//EN
X-WR-TIMEZONE:Europe/Madrid
BEGIN:VEVENT
SUMMARY:EL CEMENTIRI DE LLEIDA: UN RECORREGUT PELS ESPAIS DE MEMÒRIA DE L
 A GUERRA CIVIL I LA REPRESSIÓ FANQUISTA
DTSTART;TZID=Europe/Madrid;VALUE=DATE-TIME:20251026T100000
DTSTAMP;VALUE=DATE-TIME:20260422T191035Z
UID:1981394c90f742c1b2046280e0ee5633@www.paeria.cat
CREATED;VALUE=DATE-TIME:20251017T093510Z
DESCRIPTION:-ITINERARIS PER A LA RECUPERACIÓ DE LA MEMÒRIA DEMOCRÀTICA 
 DE LLEIDA-
LAST-MODIFIED;VALUE=DATE-TIME:20251021T125527Z
URL:https://www.paeria.cat/ca/actualitat/agenda/el-cementiri-de-lleida-un-
 recorregut-pels-espais-de-memoria-de-la-guerra-civil-i-la-repressio-fanqui
 sta
END:VEVENT
BEGIN:VTIMEZONE
TZID:Europe/Madrid
X-LIC-LOCATION:Europe/Madrid
BEGIN:STANDARD
DTSTART;VALUE=DATE-TIME:20251026T020000
TZNAME:CET
TZOFFSETFROM:+0200
TZOFFSETTO:+0100
END:STANDARD
END:VTIMEZONE
END:VCALENDAR
