BEGIN:VCALENDAR
VERSION:2.0
PRODID:-//Plone.org//NONSGML plone.app.event//EN
X-WR-TIMEZONE:Europe/Madrid
BEGIN:VEVENT
SUMMARY:ENTRADES EXHAURIDES_EL COS MÉS BONIC QUE S’HAURÀ TROBAT MAI EN
  AQUEST LLOC
DTSTART;TZID=Europe/Madrid;VALUE=DATE-TIME:20231110T200000
DTEND;TZID=Europe/Madrid;VALUE=DATE-TIME:20231110T213000
DTSTAMP;VALUE=DATE-TIME:20260422T195953Z
UID:cb62bc2442744516b1504db2f9291d86@www.paeria.cat
CATEGORIES:Cultura
CREATED;VALUE=DATE-TIME:20230812T122853Z
LAST-MODIFIED;VALUE=DATE-TIME:20260415T084316Z
URL:https://www.paeria.cat/ca/actualitat/agenda/el-cos-mes-bonic-que-s2019
 haura-trobat-mai-en-aquest-lloc
END:VEVENT
BEGIN:VTIMEZONE
TZID:Europe/Madrid
X-LIC-LOCATION:Europe/Madrid
BEGIN:STANDARD
DTSTART;VALUE=DATE-TIME:20231029T020000
TZNAME:CET
TZOFFSETFROM:+0200
TZOFFSETTO:+0100
END:STANDARD
END:VTIMEZONE
END:VCALENDAR
