BEGIN:VCALENDAR
VERSION:2.0
PRODID:-//Plone.org//NONSGML plone.app.event//EN
X-WR-TIMEZONE:Europe/Madrid
BEGIN:VEVENT
SUMMARY:EL SEGRE DE NEGRE - 9è Festival de novel·la negra i criminal de 
 Lleida
DTSTART;TZID=Europe/Madrid;VALUE=DATE-TIME:20250530T100000
DTEND;TZID=Europe/Madrid;VALUE=DATE-TIME:20250531T210000
DTSTAMP;VALUE=DATE-TIME:20260423T103054Z
UID:477ad63bda7b4bdd835e9838e87654da@www.paeria.cat
CATEGORIES:Cultura,Llibres i literatura
CREATED;VALUE=DATE-TIME:20250520T112253Z
LAST-MODIFIED;VALUE=DATE-TIME:20250526T104051Z
URL:https://www.paeria.cat/ca/actualitat/agenda/el-segre-de-negre-9e-festi
 val-de-novel-la-negra-i-criminal-de-lleida
END:VEVENT
BEGIN:VTIMEZONE
TZID:Europe/Madrid
X-LIC-LOCATION:Europe/Madrid
BEGIN:DAYLIGHT
DTSTART;VALUE=DATE-TIME:20250330T030000
TZNAME:CEST
TZOFFSETFROM:+0100
TZOFFSETTO:+0200
END:DAYLIGHT
END:VTIMEZONE
END:VCALENDAR
