BEGIN:VCALENDAR
VERSION:2.0
PRODID:-//Plone.org//NONSGML plone.app.event//EN
X-WR-TIMEZONE:Europe/Madrid
BEGIN:VEVENT
SUMMARY:ELS BOTXINS DE L'ESPANYA COLPISTA DE L'ESTIU I TARDOR DE 1936: QUI
  EREN\, COM S'ORGANITZAVEN I A QUI OBEÏEN?
DTSTART;TZID=Europe/Madrid;VALUE=DATE-TIME:20250520T190000
DTSTAMP;VALUE=DATE-TIME:20260422T170631Z
UID:115354bc79e24de8a384a95999cedf48@www.paeria.cat
CATEGORIES:Xerrades i conferències
CREATED;VALUE=DATE-TIME:20250514T105750Z
DESCRIPTION:-DEBATS DE MEMÒRIA-
LAST-MODIFIED;VALUE=DATE-TIME:20250519T092740Z
URL:https://www.paeria.cat/ca/actualitat/agenda/els-botxins-de-lespanya-co
 lpista-de-lestiu-i-tardor-de-1936-qui-eren-com-sorganitzaven-i-a-qui-obeie
 n
END:VEVENT
BEGIN:VTIMEZONE
TZID:Europe/Madrid
X-LIC-LOCATION:Europe/Madrid
BEGIN:DAYLIGHT
DTSTART;VALUE=DATE-TIME:20250330T030000
TZNAME:CEST
TZOFFSETFROM:+0100
TZOFFSETTO:+0200
END:DAYLIGHT
END:VTIMEZONE
END:VCALENDAR
