BEGIN:VCALENDAR
VERSION:2.0
PRODID:-//Plone.org//NONSGML plone.app.event//EN
X-WR-TIMEZONE:Europe/Madrid
BEGIN:VEVENT
SUMMARY:Els camins de l'aigua 1: cap al Molí de Cervià
DTSTART;TZID=Europe/Madrid;VALUE=DATE-TIME:20260613T100000
DTEND;TZID=Europe/Madrid;VALUE=DATE-TIME:20260613T120000
DTSTAMP;VALUE=DATE-TIME:20260423T192811Z
UID:f5916db15fb04b9a900543f0a01d4dc7@www.paeria.cat
CATEGORIES:Itineraris i visites,Visites guiades
CREATED;VALUE=DATE-TIME:20260423T080326Z
DESCRIPTION:Recorregut interpretatiu pel parc de la Mitjana fins al Molí 
 de Cervià\, descobrint l’entorn\, els cursos d’aigua i la història d
 els diferents llocs. Redescobrirem l’espai natural de la Mitjana\, l’h
 orta de Grenyana i els regadius tradicionals\, així com l’antic molí f
 ariner. El Museu de l’Aigua i l’Ateneu Popular de Ponent recuperen el 
 Coneixes la teva ciutat? amb un nou programa d’itineraris culturals\, en
  aquest cas\, al voltant del patrimoni de l’aigua a Lleida.
LAST-MODIFIED;VALUE=DATE-TIME:20260423T080801Z
URL:https://www.paeria.cat/ca/actualitat/agenda/els-camins-de-laigua-1-cap
 -al-moli-de-cervia
END:VEVENT
BEGIN:VTIMEZONE
TZID:Europe/Madrid
X-LIC-LOCATION:Europe/Madrid
BEGIN:DAYLIGHT
DTSTART;VALUE=DATE-TIME:20260329T030000
TZNAME:CEST
TZOFFSETFROM:+0100
TZOFFSETTO:+0200
END:DAYLIGHT
END:VTIMEZONE
END:VCALENDAR
