BEGIN:VCALENDAR
VERSION:2.0
PRODID:-//Plone.org//NONSGML plone.app.event//EN
X-WR-TIMEZONE:Europe/Madrid
BEGIN:VEVENT
SUMMARY:ATENCIÓ! CANVI D'UBICACIÓ! ESTIU EN VIU - Full House. Cia. Eléc
 trico 28
DTSTART;TZID=Europe/Madrid;VALUE=DATE-TIME:20230719T200000
DTEND;TZID=Europe/Madrid;VALUE=DATE-TIME:20230719T210000
DTSTAMP;VALUE=DATE-TIME:20260423T085253Z
UID:39f2f7b90fe041e88e214af1d707707e@www.paeria.cat
CATEGORIES:Cultura
CREATED;VALUE=DATE-TIME:20230629T120834Z
DESCRIPTION:Aquest espectacle s'ha traslladat al Mercat del Pla.
LAST-MODIFIED;VALUE=DATE-TIME:20251104T135449Z
URL:https://www.paeria.cat/ca/actualitat/agenda/estiu-en-viu-full-house-ci
 a-electrico-28-1
END:VEVENT
BEGIN:VTIMEZONE
TZID:Europe/Madrid
X-LIC-LOCATION:Europe/Madrid
BEGIN:DAYLIGHT
DTSTART;VALUE=DATE-TIME:20230326T030000
TZNAME:CEST
TZOFFSETFROM:+0100
TZOFFSETTO:+0200
END:DAYLIGHT
END:VTIMEZONE
END:VCALENDAR
