BEGIN:VCALENDAR
VERSION:2.0
PRODID:-//Plone.org//NONSGML plone.app.event//EN
X-WR-TIMEZONE:Europe/Madrid
BEGIN:VEVENT
SUMMARY:Exposició "1923-2023 Cent anys de la Federació Catalana de Basqu
 etbol"
DTSTART;VALUE=DATE:20230905
DTEND;VALUE=DATE:20231002
DTSTAMP;VALUE=DATE-TIME:20260421T042146Z
UID:14f4bc83140a4887b14f4b199d6798a5@www.paeria.cat
CATEGORIES:Cultura,Tots els públics,Exposicions,Esports,Ciutadania
CREATED;VALUE=DATE-TIME:20230904T103047Z
DESCRIPTION:Mostra commemorativa que ofereix un recorregut per la històri
 a del basquetbol a Catalunya
LAST-MODIFIED;VALUE=DATE-TIME:20251104T135449Z
URL:https://www.paeria.cat/ca/actualitat/agenda/exposicio-1923-2023-cent-a
 nys-de-la-federacio-catalana-de-basquetbol
END:VEVENT
END:VCALENDAR
