BEGIN:VCALENDAR
VERSION:2.0
PRODID:-//Plone.org//NONSGML plone.app.event//EN
X-WR-TIMEZONE:Europe/Madrid
BEGIN:VEVENT
SUMMARY:Exposició: CACAUETS AL CAP
DTSTART;TZID=Europe/Madrid;VALUE=DATE-TIME:20260116T120000
DTEND;TZID=Europe/Madrid;VALUE=DATE-TIME:20260227T140000
DTSTAMP;VALUE=DATE-TIME:20260423T002844Z
UID:3501e7c4e2494d8cabdfaa2d94d6a34e@www.paeria.cat
CATEGORIES:Exposicions,Art
CREATED;VALUE=DATE-TIME:20260116T112718Z
DESCRIPTION:Exposició de l'artista lleidatà Ignasi Palacios.
LAST-MODIFIED;VALUE=DATE-TIME:20260202T101040Z
URL:https://www.paeria.cat/ca/actualitat/agenda/exposicio-cacauets-al-cap
END:VEVENT
BEGIN:VTIMEZONE
TZID:Europe/Madrid
X-LIC-LOCATION:Europe/Madrid
BEGIN:STANDARD
DTSTART;VALUE=DATE-TIME:20251026T020000
TZNAME:CET
TZOFFSETFROM:+0200
TZOFFSETTO:+0100
END:STANDARD
END:VTIMEZONE
END:VCALENDAR
