BEGIN:VCALENDAR
VERSION:2.0
PRODID:-//Plone.org//NONSGML plone.app.event//EN
X-WR-TIMEZONE:Europe/Madrid
BEGIN:VEVENT
SUMMARY:Exposició col·lectiva- Dona i Terra
DTSTART;VALUE=DATE:20240309
DTEND;VALUE=DATE:20240414
DTSTAMP;VALUE=DATE-TIME:20260423T065540Z
UID:552c935158834bbfadb2721eafdc7bf5@www.paeria.cat
CATEGORIES:Exposicions,Cultura
CREATED;VALUE=DATE-TIME:20240227T093121Z
LAST-MODIFIED;VALUE=DATE-TIME:20240301T100827Z
URL:https://www.paeria.cat/ca/actualitat/agenda/exposicio-col-lectiva-dona
 -i-terra
END:VEVENT
END:VCALENDAR
