BEGIN:VCALENDAR
VERSION:2.0
PRODID:-//Plone.org//NONSGML plone.app.event//EN
X-WR-TIMEZONE:Europe/Madrid
BEGIN:VEVENT
SUMMARY:Exposició Col·lectiva  "GARDENY I ELS TEMPLERS"
DTSTART;TZID=Europe/Madrid;VALUE=DATE-TIME:20250402T110000
DTEND;TZID=Europe/Madrid;VALUE=DATE-TIME:20250531T170000
DTSTAMP;VALUE=DATE-TIME:20260424T085809Z
UID:e0a147b441f84e88859ee9ea20c53b7c@www.paeria.cat
CATEGORIES:Exposicions,Tots els públics
CREATED;VALUE=DATE-TIME:20250402T091440Z
DESCRIPTION:Exposició col·lectiva i monogràfica de pintura i poesia sob
 re Gardeny.
LAST-MODIFIED;VALUE=DATE-TIME:20250422T075235Z
URL:https://www.paeria.cat/ca/actualitat/agenda/exposicio-col-lectiva-gard
 eny-i-els-templers
END:VEVENT
BEGIN:VTIMEZONE
TZID:Europe/Madrid
X-LIC-LOCATION:Europe/Madrid
BEGIN:DAYLIGHT
DTSTART;VALUE=DATE-TIME:20250330T030000
TZNAME:CEST
TZOFFSETFROM:+0100
TZOFFSETTO:+0200
END:DAYLIGHT
END:VTIMEZONE
END:VCALENDAR
