BEGIN:VCALENDAR
VERSION:2.0
PRODID:-//Plone.org//NONSGML plone.app.event//EN
X-WR-TIMEZONE:Europe/Madrid
BEGIN:VEVENT
SUMMARY:Exposició de la il·lustradora lleidatana Júlia Latorre
DTSTART;VALUE=DATE:20250704
DTEND;VALUE=DATE:20250901
DTSTAMP;VALUE=DATE-TIME:20260422T101403Z
UID:30b017b923854f68bed436e9386b6774@www.paeria.cat
CATEGORIES:Exposicions,Joves
CREATED;VALUE=DATE-TIME:20250708T085548Z
DESCRIPTION:L’espai d’exposicions l’Aparador de Lleida Jove\, gestio
 nat per la Regidoria de Joventut de l’Ajuntament de Lleida\, acollirà d
 urant els mesos de juliol i agost l’obra de la jove il·lustradora lleid
 atana Júlia Latorre Barcala amb la mostra titulada "Tres viatges al Japó
  – 日本への3回の旅行".
LAST-MODIFIED;VALUE=DATE-TIME:20250825T114123Z
URL:https://www.paeria.cat/ca/actualitat/agenda/exposicio-de-la-il-lustrad
 ora-lleidatana-julia-latorre-a-l2019espai-l2019aparador-de-lleida-jove
END:VEVENT
END:VCALENDAR
