BEGIN:VCALENDAR
VERSION:2.0
PRODID:-//Plone.org//NONSGML plone.app.event//EN
X-WR-TIMEZONE:Europe/Madrid
BEGIN:VEVENT
SUMMARY:Exposició de Nadal de la Galeria Indecor
DTSTART;VALUE=DATE:20241213
DTEND;VALUE=DATE:20250108
DTSTAMP;VALUE=DATE-TIME:20260421T210654Z
UID:816c138a3233492aa8750a3403f0daa9@www.paeria.cat
CATEGORIES:Exposicions,Art,Cultura
CREATED;VALUE=DATE-TIME:20241213T105700Z
LAST-MODIFIED;VALUE=DATE-TIME:20241213T110227Z
URL:https://www.paeria.cat/ca/actualitat/agenda/exposicio-de-nadal-de-la-g
 aleria-indecor
END:VEVENT
END:VCALENDAR
