BEGIN:VCALENDAR
VERSION:2.0
PRODID:-//Plone.org//NONSGML plone.app.event//EN
X-WR-TIMEZONE:Europe/Madrid
BEGIN:VEVENT
SUMMARY:Exposició- Dibuixant les notícies. La Mañana a través dels seu
 s ninotaires
DTSTART;VALUE=DATE:20241010
DTEND;VALUE=DATE:20241209
DTSTAMP;VALUE=DATE-TIME:20260422T133324Z
UID:4d56514a5d8441bcb5a241c329b288f6@www.paeria.cat
CATEGORIES:Exposicions,Cultura
CREATED;VALUE=DATE-TIME:20241008T161547Z
LAST-MODIFIED;VALUE=DATE-TIME:20241008T162001Z
URL:https://www.paeria.cat/ca/actualitat/agenda/exposicio-dibuixant-les-no
 ticies-la-manana-a-traves-dels-seus-ninotaires
END:VEVENT
END:VCALENDAR
