BEGIN:VCALENDAR
VERSION:2.0
PRODID:-//Plone.org//NONSGML plone.app.event//EN
X-WR-TIMEZONE:Europe/Madrid
BEGIN:VEVENT
SUMMARY:Exposició "Drets Humans de lo Local a lo Global. Lleida 2019-2022
 "
DTSTART;TZID=Europe/Madrid;VALUE=DATE-TIME:20240109T140000
DTEND;TZID=Europe/Madrid;VALUE=DATE-TIME:20240202T110000
DTSTAMP;VALUE=DATE-TIME:20260423T071438Z
UID:d3a050f01ba54db388dd2f04302a56d2@www.paeria.cat
CATEGORIES:Exposicions
CREATED;VALUE=DATE-TIME:20240109T134720Z
DESCRIPTION:Un recull de totes les accions endegades des de la Regidoria d
 e Cooperació Internacional\, tant en cooperació arreu del món com en se
 nsibilització directa a la ciutadania\; o bé\, a través de la convocato
 ria de concurrència competitiva amb les entitats solidaries locals.\nEsta
 rà exposada des d'avui 9 de gener fins al 2 de febrer\, al Centre Cívic 
 del Secà de Sant Pere.
LAST-MODIFIED;VALUE=DATE-TIME:20250514T073206Z
URL:https://www.paeria.cat/ca/actualitat/agenda/exposicio-drets-humans-de-
 lo-local-a-lo-global-lleida-2019-2022-1
END:VEVENT
BEGIN:VTIMEZONE
TZID:Europe/Madrid
X-LIC-LOCATION:Europe/Madrid
BEGIN:STANDARD
DTSTART;VALUE=DATE-TIME:20231029T020000
TZNAME:CET
TZOFFSETFROM:+0200
TZOFFSETTO:+0100
END:STANDARD
END:VTIMEZONE
END:VCALENDAR
