BEGIN:VCALENDAR
VERSION:2.0
PRODID:-//Plone.org//NONSGML plone.app.event//EN
X-WR-TIMEZONE:Europe/Madrid
BEGIN:VEVENT
SUMMARY:Exposició fotogràfica: Parkinson Rural. Historias con enfoque
DTSTART;TZID=Europe/Madrid;VALUE=DATE-TIME:20231016T170000
DTEND;TZID=Europe/Madrid;VALUE=DATE-TIME:20231020T200000
DTSTAMP;VALUE=DATE-TIME:20260423T103038Z
UID:83feb169871843d2ab3c48c878c18eeb@www.paeria.cat
RRULE:FREQ=DAILY;UNTIL=20231020T000000
CATEGORIES:Cultura,Exposicions
CREATED;VALUE=DATE-TIME:20231016T104438Z
LAST-MODIFIED;VALUE=DATE-TIME:20251104T135449Z
URL:https://www.paeria.cat/ca/actualitat/agenda/exposicio-fotografica-park
 inson-rural-historias-con-enfoque
END:VEVENT
BEGIN:VTIMEZONE
TZID:Europe/Madrid
X-LIC-LOCATION:Europe/Madrid
BEGIN:DAYLIGHT
DTSTART;VALUE=DATE-TIME:20230326T030000
TZNAME:CEST
TZOFFSETFROM:+0100
TZOFFSETTO:+0200
END:DAYLIGHT
END:VTIMEZONE
END:VCALENDAR
