BEGIN:VCALENDAR
VERSION:2.0
PRODID:-//Plone.org//NONSGML plone.app.event//EN
X-WR-TIMEZONE:Europe/Madrid
BEGIN:VEVENT
SUMMARY:Exposició fotogràfica- Retrats\, Relats i Racons. Memòries de b
 arri: La Mariola\, Turó de Gardeny i Blocs Joan Carles
DTSTART;VALUE=DATE:20240430
DTEND;VALUE=DATE:20240618
DTSTAMP;VALUE=DATE-TIME:20260423T023403Z
UID:209c350df61f4223ae91f8f51bef7351@www.paeria.cat
CATEGORIES:Exposicions,Cultura
CREATED;VALUE=DATE-TIME:20240430T070730Z
LAST-MODIFIED;VALUE=DATE-TIME:20240430T070935Z
URL:https://www.paeria.cat/ca/actualitat/agenda/exposicio-fotografica-retr
 ats-relats-i-racons-memories-de-barri-la-mariola-turo-de-gardeny-i-blocs-j
 oan-carles
END:VEVENT
END:VCALENDAR
