BEGIN:VCALENDAR
VERSION:2.0
PRODID:-//Plone.org//NONSGML plone.app.event//EN
X-WR-TIMEZONE:Europe/Madrid
BEGIN:VEVENT
SUMMARY:Exposició- Mostra dels 10 anys del Premi de fotografia feminista 
 Leonor Pedrico Serradell i X edició Dones i fotoperiodisme
DTSTART;VALUE=DATE:20241002
DTEND;VALUE=DATE:20241027
DTSTAMP;VALUE=DATE-TIME:20260422T191726Z
UID:025299cdb63643e691ecf8f8dc52404d@www.paeria.cat
CATEGORIES:Exposicions,Cultura
CREATED;VALUE=DATE-TIME:20241001T043934Z
LAST-MODIFIED;VALUE=DATE-TIME:20241001T044154Z
URL:https://www.paeria.cat/ca/actualitat/agenda/exposicio-mostra-dels-10-a
 nys-del-premi-de-fotografia-feminista-leonor-pedrico-serradell-i-x-edicio-
 201cdones-i-fotoperiodisme
END:VEVENT
END:VCALENDAR
