BEGIN:VCALENDAR
VERSION:2.0
PRODID:-//Plone.org//NONSGML plone.app.event//EN
X-WR-TIMEZONE:Europe/Madrid
BEGIN:VEVENT
SUMMARY:Exposició- Visca la terra! 50 anys d’Unió de Pagesos
DTSTART;VALUE=DATE:20240405
DTEND;VALUE=DATE:20240429
DTSTAMP;VALUE=DATE-TIME:20260422T122849Z
UID:0f1f4c664ed84e0b9e20ccc7e5d41038@www.paeria.cat
CATEGORIES:Exposicions,Cultura
CREATED;VALUE=DATE-TIME:20240404T064748Z
LAST-MODIFIED;VALUE=DATE-TIME:20240404T065216Z
URL:https://www.paeria.cat/ca/actualitat/agenda/exposicio-visca-la-terra-5
 0-anys-d2019unio-de-pagesos
END:VEVENT
END:VCALENDAR
