BEGIN:VCALENDAR
VERSION:2.0
PRODID:-//Plone.org//NONSGML plone.app.event//EN
X-WR-TIMEZONE:Europe/Madrid
BEGIN:VEVENT
SUMMARY:FAM. Les impuxibles\, Maria Velasco i Judit Colomer
DTSTART;TZID=Europe/Madrid;VALUE=DATE-TIME:20230211T200000
DTEND;TZID=Europe/Madrid;VALUE=DATE-TIME:20230211T205000
DTSTAMP;VALUE=DATE-TIME:20260422T125241Z
UID:fb02190b7e084dd98931df3ff4e0b477@www.paeria.cat
CATEGORIES:Dansa,Cultura,Joves
CREATED;VALUE=DATE-TIME:20230110T165731Z
DESCRIPTION:El cos\, és la solució o és el problema?
LAST-MODIFIED;VALUE=DATE-TIME:20260202T123329Z
URL:https://www.paeria.cat/ca/actualitat/agenda/fam-les-impuxibles-maria-v
 elasco-i-judit-colomer
END:VEVENT
BEGIN:VTIMEZONE
TZID:Europe/Madrid
X-LIC-LOCATION:Europe/Madrid
BEGIN:STANDARD
DTSTART;VALUE=DATE-TIME:20221030T020000
TZNAME:CET
TZOFFSETFROM:+0200
TZOFFSETTO:+0100
END:STANDARD
END:VTIMEZONE
END:VCALENDAR
