BEGIN:VCALENDAR
VERSION:2.0
PRODID:-//Plone.org//NONSGML plone.app.event//EN
X-WR-TIMEZONE:Europe/Madrid
BEGIN:VEVENT
SUMMARY:Festa d’inici La Temporada. Rhinos amb Zum-Zum Teatre
DTSTART;TZID=Europe/Madrid;VALUE=DATE-TIME:20230923T190000
DTEND;TZID=Europe/Madrid;VALUE=DATE-TIME:20230923T200000
DTSTAMP;VALUE=DATE-TIME:20260423T022906Z
UID:ba74e419001c4d97a0809d707737d63f@www.paeria.cat
CREATED;VALUE=DATE-TIME:20230905T130507Z
LAST-MODIFIED;VALUE=DATE-TIME:20250827T100841Z
URL:https://www.paeria.cat/ca/actualitat/agenda/festa-d2019inici-la-tempor
 ada-rhinos-amb-zum-zum-teatre
END:VEVENT
BEGIN:VTIMEZONE
TZID:Europe/Madrid
X-LIC-LOCATION:Europe/Madrid
BEGIN:DAYLIGHT
DTSTART;VALUE=DATE-TIME:20230326T030000
TZNAME:CEST
TZOFFSETFROM:+0100
TZOFFSETTO:+0200
END:DAYLIGHT
END:VTIMEZONE
END:VCALENDAR
