BEGIN:VCALENDAR
VERSION:2.0
PRODID:-//Plone.org//NONSGML plone.app.event//EN
X-WR-TIMEZONE:Europe/Madrid
BEGIN:VEVENT
SUMMARY:Festa d'Inici de LaTemporada "Vallverquè? Vallverdú!" amb Berta 
 Puigdemasa i Alba Godoy
DTSTART;TZID=Europe/Madrid;VALUE=DATE-TIME:20230924T120000
DTEND;TZID=Europe/Madrid;VALUE=DATE-TIME:20230924T130000
DTSTAMP;VALUE=DATE-TIME:20260422T170631Z
UID:30d06d25695f42ecbfb9d2803ec9a5ed@www.paeria.cat
CATEGORIES:Cultura,Tots els públics
CREATED;VALUE=DATE-TIME:20230912T100351Z
DESCRIPTION:Espectacle que tindrà lloc als Jardins 1er de maig ( barri de
  la Mariola\, zona 9)
LAST-MODIFIED;VALUE=DATE-TIME:20260415T084324Z
URL:https://www.paeria.cat/ca/actualitat/agenda/festa-dinici-de-latemporad
 a-vallverque-vallverdu-amb-berta-puigdemasa-i-alba-godoy
END:VEVENT
BEGIN:VTIMEZONE
TZID:Europe/Madrid
X-LIC-LOCATION:Europe/Madrid
BEGIN:DAYLIGHT
DTSTART;VALUE=DATE-TIME:20230326T030000
TZNAME:CEST
TZOFFSETFROM:+0100
TZOFFSETTO:+0200
END:DAYLIGHT
END:VTIMEZONE
END:VCALENDAR
