BEGIN:VCALENDAR
VERSION:2.0
PRODID:-//Plone.org//NONSGML plone.app.event//EN
X-WR-TIMEZONE:Europe/Madrid
BEGIN:VEVENT
SUMMARY:Festa i Romeria dels Fanalets de Sant Jaume Juliol 2023
DTSTART;VALUE=DATE:20230717
DTEND;VALUE=DATE:20230727
DTSTAMP;VALUE=DATE-TIME:20260422T134046Z
UID:710e49cb7dcb4a9d89cdbd407065bc43@www.paeria.cat
RRULE:FREQ=DAILY;UNTIL=20230726T000000
CATEGORIES:Cultura popular
CREATED;VALUE=DATE-TIME:20230717T094429Z
LAST-MODIFIED;VALUE=DATE-TIME:20251104T135450Z
URL:https://www.paeria.cat/ca/actualitat/agenda/festa-i-romeria-dels-fanal
 ets-de-sant-jaume-juliol-2023
END:VEVENT
END:VCALENDAR
