BEGIN:VCALENDAR
VERSION:2.0
PRODID:-//Plone.org//NONSGML plone.app.event//EN
X-WR-TIMEZONE:Europe/Madrid
BEGIN:VEVENT
SUMMARY:Festa i Romeria dels Fanalets de Sant Jaume 2024
DTSTART;VALUE=DATE:20240713
DTEND;VALUE=DATE:20240726
DTSTAMP;VALUE=DATE-TIME:20260422T182125Z
UID:bc10b42c0d99463baca7a9c912e36869@www.paeria.cat
CREATED;VALUE=DATE-TIME:20240717T060804Z
LAST-MODIFIED;VALUE=DATE-TIME:20240722T103747Z
URL:https://www.paeria.cat/ca/actualitat/agenda/festa-i-romeria-dels-fanal
 ets-de-sant-jaume-juliol-2024
END:VEVENT
END:VCALENDAR
