BEGIN:VCALENDAR
VERSION:2.0
PRODID:-//Plone.org//NONSGML plone.app.event//EN
X-WR-TIMEZONE:Europe/Madrid
BEGIN:VEVENT
SUMMARY:Festival de danza española y flamenco
DTSTART;TZID=Europe/Madrid;VALUE=DATE-TIME:20250613T200000
DTEND;TZID=Europe/Madrid;VALUE=DATE-TIME:20250613T213000
DTSTAMP;VALUE=DATE-TIME:20260420T140241Z
UID:176b95d501de43fb80fdeb8e73d613ea@www.paeria.cat
CATEGORIES:Cultura,Dansa
CREATED;VALUE=DATE-TIME:20250529T093833Z
LAST-MODIFIED;VALUE=DATE-TIME:20250609T090929Z
URL:https://www.paeria.cat/ca/actualitat/agenda/festival-de-danza-espanola
 -y-flamenco
END:VEVENT
BEGIN:VTIMEZONE
TZID:Europe/Madrid
X-LIC-LOCATION:Europe/Madrid
BEGIN:DAYLIGHT
DTSTART;VALUE=DATE-TIME:20250330T030000
TZNAME:CEST
TZOFFSETFROM:+0100
TZOFFSETTO:+0200
END:DAYLIGHT
END:VTIMEZONE
END:VCALENDAR
