BEGIN:VCALENDAR
VERSION:2.0
PRODID:-//Plone.org//NONSGML plone.app.event//EN
X-WR-TIMEZONE:Europe/Madrid
BEGIN:VEVENT
SUMMARY:Festival FUM FUM FUM 2023. Soc una nou. Cia Zum-Zum Teatre
DTSTART;TZID=Europe/Madrid;VALUE=DATE-TIME:20231231T120000
DTSTAMP;VALUE=DATE-TIME:20260423T023504Z
UID:6a0747cde4984a18a2a5a9a16e82cf9d@www.paeria.cat
CATEGORIES:Tots els públics,Cultura,Teatre,Infantil
CREATED;VALUE=DATE-TIME:20231129T172555Z
LAST-MODIFIED;VALUE=DATE-TIME:20231228T113447Z
URL:https://www.paeria.cat/ca/actualitat/agenda/festival-fum-fum-fum-2023-
 soc-una-nou-cia-zum-zum-teatre
END:VEVENT
BEGIN:VTIMEZONE
TZID:Europe/Madrid
X-LIC-LOCATION:Europe/Madrid
BEGIN:STANDARD
DTSTART;VALUE=DATE-TIME:20231029T020000
TZNAME:CET
TZOFFSETFROM:+0200
TZOFFSETTO:+0100
END:STANDARD
END:VTIMEZONE
END:VCALENDAR
