BEGIN:VCALENDAR
VERSION:2.0
PRODID:-//Plone.org//NONSGML plone.app.event//EN
X-WR-TIMEZONE:Europe/Madrid
BEGIN:VEVENT
SUMMARY:Festival FUM FUM FUM 2023. Solo. Cia. Roi Borrallas
DTSTART;TZID=Europe/Madrid;VALUE=DATE-TIME:20231228T180000
DTSTAMP;VALUE=DATE-TIME:20260423T023405Z
UID:39a57ebe536e4b1eb9d285cc7edb1268@www.paeria.cat
CATEGORIES:Teatre,Cultura,Infantil
CREATED;VALUE=DATE-TIME:20231129T164725Z
LAST-MODIFIED;VALUE=DATE-TIME:20231228T113430Z
URL:https://www.paeria.cat/ca/actualitat/agenda/festival-fum-fum-fum-2023-
 solo-cia-roi-borrallas
END:VEVENT
BEGIN:VTIMEZONE
TZID:Europe/Madrid
X-LIC-LOCATION:Europe/Madrid
BEGIN:STANDARD
DTSTART;VALUE=DATE-TIME:20231029T020000
TZNAME:CET
TZOFFSETFROM:+0200
TZOFFSETTO:+0100
END:STANDARD
END:VTIMEZONE
END:VCALENDAR
