BEGIN:VCALENDAR
VERSION:2.0
PRODID:-//Plone.org//NONSGML plone.app.event//EN
X-WR-TIMEZONE:Europe/Madrid
BEGIN:VEVENT
SUMMARY:Festival Internacional d'arts poètiques Vers-Art
DTSTART;TZID=Europe/Madrid;VALUE=DATE-TIME:20240615T100000
DTSTAMP;VALUE=DATE-TIME:20260425T191645Z
UID:51d931dac0034e1f9aaf0d4d9177ff92@www.paeria.cat
CATEGORIES:Art,Exposicions,Cultura,Llibres i literatura
CREATED;VALUE=DATE-TIME:20240530T071740Z
LAST-MODIFIED;VALUE=DATE-TIME:20250514T124534Z
URL:https://www.paeria.cat/ca/actualitat/agenda/festival-internacional-dar
 ts-poetiques-vers-art
END:VEVENT
BEGIN:VTIMEZONE
TZID:Europe/Madrid
X-LIC-LOCATION:Europe/Madrid
BEGIN:DAYLIGHT
DTSTART;VALUE=DATE-TIME:20240331T030000
TZNAME:CEST
TZOFFSETFROM:+0100
TZOFFSETTO:+0200
END:DAYLIGHT
END:VTIMEZONE
END:VCALENDAR
