BEGIN:VCALENDAR
VERSION:2.0
PRODID:-//Plone.org//NONSGML plone.app.event//EN
X-WR-TIMEZONE:Europe/Madrid
BEGIN:VEVENT
SUMMARY:Francesco Tristano. Piano & electronics. Cicle Piano\, piano
DTSTART;TZID=Europe/Madrid;VALUE=DATE-TIME:20260417T210000
DTEND;TZID=Europe/Madrid;VALUE=DATE-TIME:20260417T221000
DTSTAMP;VALUE=DATE-TIME:20260422T195911Z
UID:908257e32b824abf9f73b25b70e357b8@www.paeria.cat
CATEGORIES:Cultura,Música,Ciutadania,Públic
CREATED;VALUE=DATE-TIME:20260306T074139Z
DESCRIPTION:Any Viñes. Concert gratuït que tindrà lloc a la nau central
  de la Seu Vella
LAST-MODIFIED;VALUE=DATE-TIME:20260331T112608Z
URL:https://www.paeria.cat/ca/actualitat/agenda/francesco-tristano-piano-e
 lectronics-cicle-piano-piano
END:VEVENT
BEGIN:VTIMEZONE
TZID:Europe/Madrid
X-LIC-LOCATION:Europe/Madrid
BEGIN:DAYLIGHT
DTSTART;VALUE=DATE-TIME:20260329T030000
TZNAME:CEST
TZOFFSETFROM:+0100
TZOFFSETTO:+0200
END:DAYLIGHT
END:VTIMEZONE
END:VCALENDAR
