BEGIN:VCALENDAR
VERSION:2.0
PRODID:-//Plone.org//NONSGML plone.app.event//EN
X-WR-TIMEZONE:Europe/Madrid
BEGIN:VEVENT
SUMMARY:Garrotin. Activa't al Casal.
DTSTART;TZID=Europe/Madrid;VALUE=DATE-TIME:20250109T173000
DTEND;TZID=Europe/Madrid;VALUE=DATE-TIME:20250109T193000
DTSTAMP;VALUE=DATE-TIME:20260421T115157Z
UID:cc281a126f6545bba3e083bc37799745@www.paeria.cat
CREATED;VALUE=DATE-TIME:20241216T121459Z
LAST-MODIFIED;VALUE=DATE-TIME:20250107T121928Z
URL:https://www.paeria.cat/ca/actualitat/agenda/garrotin-activat-al-casal-
 6
END:VEVENT
BEGIN:VTIMEZONE
TZID:Europe/Madrid
X-LIC-LOCATION:Europe/Madrid
BEGIN:STANDARD
DTSTART;VALUE=DATE-TIME:20241027T020000
TZNAME:CET
TZOFFSETFROM:+0200
TZOFFSETTO:+0100
END:STANDARD
END:VTIMEZONE
END:VCALENDAR
