BEGIN:VCALENDAR
VERSION:2.0
PRODID:-//Plone.org//NONSGML plone.app.event//EN
X-WR-TIMEZONE:Europe/Madrid
BEGIN:VEVENT
SUMMARY:Geometria de la desigualtat
DTSTART;TZID=Europe/Madrid;VALUE=DATE-TIME:20260313T130000
DTEND;TZID=Europe/Madrid;VALUE=DATE-TIME:20260313T140000
DTSTAMP;VALUE=DATE-TIME:20260422T141220Z
UID:a4fca4fa9a11456e93fcbf7c3eaf102c@www.paeria.cat
CATEGORIES:Ocupació,Tallers i cursos
CREATED;VALUE=DATE-TIME:20260305T142718Z
DESCRIPTION:Dinàmica participativa a l’exterior per sensibilitzar sobre
  les situacions de desigualtat que es donen en el context laboral.
LAST-MODIFIED;VALUE=DATE-TIME:20260306T085821Z
URL:https://www.paeria.cat/ca/actualitat/agenda/geometria-de-la-desigualta
 t
END:VEVENT
BEGIN:VTIMEZONE
TZID:Europe/Madrid
X-LIC-LOCATION:Europe/Madrid
BEGIN:STANDARD
DTSTART;VALUE=DATE-TIME:20251026T020000
TZNAME:CET
TZOFFSETFROM:+0200
TZOFFSETTO:+0100
END:STANDARD
END:VTIMEZONE
END:VCALENDAR
