BEGIN:VCALENDAR
VERSION:2.0
PRODID:-//Plone.org//NONSGML plone.app.event//EN
X-WR-TIMEZONE:Europe/Madrid
BEGIN:VEVENT
SUMMARY:Hermafrodites a cavall o la rebel·lió del desig. Colectivo que n
 o salga de aquí
DTSTART;TZID=Europe/Madrid;VALUE=DATE-TIME:20251009T200000
DTEND;TZID=Europe/Madrid;VALUE=DATE-TIME:20251009T210000
DTSTAMP;VALUE=DATE-TIME:20260423T022400Z
UID:15e155ae71d441f783c00c195aaee212@www.paeria.cat
CATEGORIES:Cultura,Teatre
CREATED;VALUE=DATE-TIME:20250612T112621Z
LAST-MODIFIED;VALUE=DATE-TIME:20250714T121754Z
URL:https://www.paeria.cat/ca/actualitat/agenda/hermafrodites-a-cavall-o-l
 a-rebel-lio-del-desig-colectivo-que-no-salga-de-aqui
END:VEVENT
BEGIN:VTIMEZONE
TZID:Europe/Madrid
X-LIC-LOCATION:Europe/Madrid
BEGIN:DAYLIGHT
DTSTART;VALUE=DATE-TIME:20250330T030000
TZNAME:CEST
TZOFFSETFROM:+0100
TZOFFSETTO:+0200
END:DAYLIGHT
END:VTIMEZONE
END:VCALENDAR
