BEGIN:VCALENDAR
VERSION:2.0
PRODID:-//Plone.org//NONSGML plone.app.event//EN
X-WR-TIMEZONE:Europe/Madrid
BEGIN:VEVENT
SUMMARY:Homenatge a Jaume Ferran Camps
DTSTART;TZID=Europe/Madrid;VALUE=DATE-TIME:20260205T110000
DTEND;TZID=Europe/Madrid;VALUE=DATE-TIME:20260205T120000
DTSTAMP;VALUE=DATE-TIME:20260422T195911Z
UID:0739f5d64c03481fb355dfaa8fffd3d3@www.paeria.cat
CATEGORIES:Llibres i literatura
CREATED;VALUE=DATE-TIME:20260113T071252Z
LAST-MODIFIED;VALUE=DATE-TIME:20260202T124849Z
URL:https://www.paeria.cat/ca/actualitat/agenda/homenatge-a-jaume-ferran-c
 amps
END:VEVENT
BEGIN:VTIMEZONE
TZID:Europe/Madrid
X-LIC-LOCATION:Europe/Madrid
BEGIN:STANDARD
DTSTART;VALUE=DATE-TIME:20251026T020000
TZNAME:CET
TZOFFSETFROM:+0200
TZOFFSETTO:+0100
END:STANDARD
END:VTIMEZONE
END:VCALENDAR
