BEGIN:VCALENDAR
VERSION:2.0
PRODID:-//Plone.org//NONSGML plone.app.event//EN
X-WR-TIMEZONE:Europe/Madrid
BEGIN:VEVENT
SUMMARY:Hora del conte: L'arbre de sucre amb Ada Cusidó
DTSTART;TZID=Europe/Madrid;VALUE=DATE-TIME:20231213T173000
DTEND;TZID=Europe/Madrid;VALUE=DATE-TIME:20231213T183000
DTSTAMP;VALUE=DATE-TIME:20260423T203139Z
UID:eb7ae98594304083898c6f45d4baffb7@www.paeria.cat
CATEGORIES:Cultura,Infantil
CREATED;VALUE=DATE-TIME:20231110T110315Z
DESCRIPTION:Un conte on passejarem per les diferents estacions de l’any\
 , veurem com canvia el paisatge i com canviem nosaltres! \n\nEspectacle pe
 r a nens i nenes a partir de 3 anys.
LAST-MODIFIED;VALUE=DATE-TIME:20251104T135450Z
URL:https://www.paeria.cat/ca/actualitat/agenda/hora-del-conte-larbre-de-s
 ucre-amb-ada-cusido
END:VEVENT
BEGIN:VTIMEZONE
TZID:Europe/Madrid
X-LIC-LOCATION:Europe/Madrid
BEGIN:STANDARD
DTSTART;VALUE=DATE-TIME:20231029T020000
TZNAME:CET
TZOFFSETFROM:+0200
TZOFFSETTO:+0100
END:STANDARD
END:VTIMEZONE
END:VCALENDAR
