BEGIN:VCALENDAR
VERSION:2.0
PRODID:-//Plone.org//NONSGML plone.app.event//EN
X-WR-TIMEZONE:Europe/Madrid
BEGIN:VEVENT
SUMMARY:INAUGURACIÓ DE L’EXPOSICIÓ:  “DRETS HUMANS DE LO LOCAL A LO 
 GLOBAL\, LLEIDA 2019-2022”
DTSTART;TZID=Europe/Madrid;VALUE=DATE-TIME:20230923T160000
DTEND;TZID=Europe/Madrid;VALUE=DATE-TIME:20230923T200000
DTSTAMP;VALUE=DATE-TIME:20260422T200600Z
UID:2249c6d3598c42b9805b3ad6214c7366@www.paeria.cat
CREATED;VALUE=DATE-TIME:20230920T120730Z
DESCRIPTION:16.00h a 20:00h – Paradetes de les entitats i ONGD\n18h Inau
 guració exposició a càrrec de Regidor de Cooperació\n18h Concert de BC
 N Ghana revolution i berenar popular
LAST-MODIFIED;VALUE=DATE-TIME:20230920T121333Z
URL:https://www.paeria.cat/ca/actualitat/agenda/inauguracio-de-l2019exposi
 cio-201cdrets-humans-de-lo-local-a-lo-global-lleida-2019-2022201d
END:VEVENT
BEGIN:VTIMEZONE
TZID:Europe/Madrid
X-LIC-LOCATION:Europe/Madrid
BEGIN:DAYLIGHT
DTSTART;VALUE=DATE-TIME:20230326T030000
TZNAME:CEST
TZOFFSETFROM:+0100
TZOFFSETTO:+0200
END:DAYLIGHT
END:VTIMEZONE
END:VCALENDAR
