BEGIN:VCALENDAR
VERSION:2.0
PRODID:-//Plone.org//NONSGML plone.app.event//EN
X-WR-TIMEZONE:Europe/Madrid
BEGIN:VEVENT
SUMMARY:Inauguració de l'exposició- 10 anys del Premi Fotogràfic Femini
 sta. Dones i Fotoperiodisme
DTSTART;TZID=Europe/Madrid;VALUE=DATE-TIME:20241118T180000
DTSTAMP;VALUE=DATE-TIME:20260422T121653Z
UID:ade4f9fc845c4189953b8cc30625a3e1@www.paeria.cat
CATEGORIES:Cultura,Exposicions
CREATED;VALUE=DATE-TIME:20241116T151458Z
LAST-MODIFIED;VALUE=DATE-TIME:20250514T123848Z
URL:https://www.paeria.cat/ca/actualitat/agenda/inauguracio-de-lexposicio-
 10-anys-del-premi-fotografic-feminista-dones-i-fotoperiodisme
END:VEVENT
BEGIN:VTIMEZONE
TZID:Europe/Madrid
X-LIC-LOCATION:Europe/Madrid
BEGIN:STANDARD
DTSTART;VALUE=DATE-TIME:20241027T020000
TZNAME:CET
TZOFFSETFROM:+0200
TZOFFSETTO:+0100
END:STANDARD
END:VTIMEZONE
END:VCALENDAR
