BEGIN:VCALENDAR
VERSION:2.0
PRODID:-//Plone.org//NONSGML plone.app.event//EN
X-WR-TIMEZONE:Europe/Madrid
BEGIN:VEVENT
SUMMARY:INTANGIBLE. Festival d’art_tecnologia _ DINS LA LLUM\, amb Pole
 Two\, artistes audiovisuals
DTSTART;TZID=Europe/Madrid;VALUE=DATE-TIME:20231026T203000
DTEND;TZID=Europe/Madrid;VALUE=DATE-TIME:20231026T213000
DTSTAMP;VALUE=DATE-TIME:20260422T102213Z
UID:ce6760510874485d8963052bf67703b6@www.paeria.cat
CATEGORIES:Música,Ciències i tecnologies,Audiovisuals
CREATED;VALUE=DATE-TIME:20231009T171650Z
LAST-MODIFIED;VALUE=DATE-TIME:20251104T135449Z
URL:https://www.paeria.cat/ca/actualitat/agenda/intangible-festival-d2019a
 rt_tecnologia-_-dins-la-llum-amb-poletwo-artistes-audiovisuals
END:VEVENT
BEGIN:VTIMEZONE
TZID:Europe/Madrid
X-LIC-LOCATION:Europe/Madrid
BEGIN:DAYLIGHT
DTSTART;VALUE=DATE-TIME:20230326T030000
TZNAME:CEST
TZOFFSETFROM:+0100
TZOFFSETTO:+0200
END:DAYLIGHT
END:VTIMEZONE
END:VCALENDAR
